BEGIN:VCALENDAR
VERSION:2.0
PRODID:-// - ECPv6.15.20//NONSGML v1.0//EN
CALSCALE:GREGORIAN
METHOD:PUBLISH
X-ORIGINAL-URL:https://droits-observatoire-cerium.org
X-WR-CALDESC:Événements pour 
REFRESH-INTERVAL;VALUE=DURATION:PT1H
X-Robots-Tag:noindex
X-PUBLISHED-TTL:PT1H
BEGIN:VTIMEZONE
TZID:America/Toronto
BEGIN:DAYLIGHT
TZOFFSETFROM:-0500
TZOFFSETTO:-0400
TZNAME:EDT
DTSTART:20220313T070000
END:DAYLIGHT
BEGIN:STANDARD
TZOFFSETFROM:-0400
TZOFFSETTO:-0500
TZNAME:EST
DTSTART:20221106T060000
END:STANDARD
BEGIN:DAYLIGHT
TZOFFSETFROM:-0500
TZOFFSETTO:-0400
TZNAME:EDT
DTSTART:20230312T070000
END:DAYLIGHT
BEGIN:STANDARD
TZOFFSETFROM:-0400
TZOFFSETTO:-0500
TZNAME:EST
DTSTART:20231105T060000
END:STANDARD
BEGIN:DAYLIGHT
TZOFFSETFROM:-0500
TZOFFSETTO:-0400
TZNAME:EDT
DTSTART:20240310T070000
END:DAYLIGHT
BEGIN:STANDARD
TZOFFSETFROM:-0400
TZOFFSETTO:-0500
TZNAME:EST
DTSTART:20241103T060000
END:STANDARD
END:VTIMEZONE
BEGIN:VEVENT
DTSTART;TZID=America/Toronto:20230314T173000
DTEND;TZID=America/Toronto:20230314T193000
DTSTAMP:20260423T042148
CREATED:20230303T182014Z
LAST-MODIFIED:20230303T182857Z
UID:981-1678815000-1678822200@droits-observatoire-cerium.org
SUMMARY:Table ronde : Essentiels
DESCRIPTION:
URL:https://droits-observatoire-cerium.org/event/table-ronde-essentiels/
LOCATION:Pavillon Lionel-Groulx\, Montréal\, Québec\, Canada
CATEGORIES:Table Ronde
END:VEVENT
BEGIN:VEVENT
DTSTART;TZID=America/Toronto:20230221T180000
DTEND;TZID=America/Toronto:20230221T203000
DTSTAMP:20260423T042148
CREATED:20230220T150602Z
LAST-MODIFIED:20230220T150602Z
UID:938-1677002400-1677011400@droits-observatoire-cerium.org
SUMMARY:Table ronde – L’éveil: Paroles wokes et débats
DESCRIPTION:
URL:https://droits-observatoire-cerium.org/event/table-ronde-leveil-paroles-wokes-et-debats/
LOCATION:Pavillon Lionel-Groulx\, Montréal\, Québec\, Canada
CATEGORIES:Table Ronde
END:VEVENT
END:VCALENDAR